BEGIN:VCALENDAR
VERSION:2.0
PRODID:-//Freiwillige Feuerwehr Kastorf - ECPv6.15.20//NONSGML v1.0//EN
CALSCALE:GREGORIAN
METHOD:PUBLISH
X-WR-CALNAME:Freiwillige Feuerwehr Kastorf
X-ORIGINAL-URL:https://feuerwehrkastorf.de
X-WR-CALDESC:Veranstaltungen für Freiwillige Feuerwehr Kastorf
REFRESH-INTERVAL;VALUE=DURATION:PT1H
X-Robots-Tag:noindex
X-PUBLISHED-TTL:PT1H
BEGIN:VTIMEZONE
TZID:Europe/Berlin
BEGIN:DAYLIGHT
TZOFFSETFROM:+0100
TZOFFSETTO:+0200
TZNAME:CEST
DTSTART:20260329T010000
END:DAYLIGHT
BEGIN:STANDARD
TZOFFSETFROM:+0200
TZOFFSETTO:+0100
TZNAME:CET
DTSTART:20261025T010000
END:STANDARD
BEGIN:DAYLIGHT
TZOFFSETFROM:+0100
TZOFFSETTO:+0200
TZNAME:CEST
DTSTART:20270328T010000
END:DAYLIGHT
BEGIN:STANDARD
TZOFFSETFROM:+0200
TZOFFSETTO:+0100
TZNAME:CET
DTSTART:20271031T010000
END:STANDARD
BEGIN:DAYLIGHT
TZOFFSETFROM:+0100
TZOFFSETTO:+0200
TZNAME:CEST
DTSTART:20280326T010000
END:DAYLIGHT
BEGIN:STANDARD
TZOFFSETFROM:+0200
TZOFFSETTO:+0100
TZNAME:CET
DTSTART:20281029T010000
END:STANDARD
END:VTIMEZONE
BEGIN:VEVENT
DTSTART;TZID=Europe/Berlin:20270129T200000
DTEND;TZID=Europe/Berlin:20270129T223000
DTSTAMP:20260422T032603
CREATED:20260130T135421Z
LAST-MODIFIED:20260130T135421Z
UID:5614-1801252800-1801261800@feuerwehrkastorf.de
SUMMARY:Jahreshauptversammlung
DESCRIPTION:Übungsdienst
URL:https://feuerwehrkastorf.de/termin/jahreshauptversammlung-2/
LOCATION:Freiwillige Feuerwehr Kastorf\, Ratzeburger Straße 26 b\, Kastorf\, Schleswig-Holstein\, 23847\, Germany
CATEGORIES:Übungsdienst
ORGANIZER;CN="Dennis Jahn%2C Wehrf%C3%BChrer":MAILTO:dennis.jahn@feuerwehrkastorf.de
END:VEVENT
END:VCALENDAR