BEGIN:VCALENDAR
VERSION:2.0
PRODID:-//Freiwillige Feuerwehr Kastorf - ECPv6.15.20//NONSGML v1.0//EN
CALSCALE:GREGORIAN
METHOD:PUBLISH
X-WR-CALNAME:Freiwillige Feuerwehr Kastorf
X-ORIGINAL-URL:https://feuerwehrkastorf.de
X-WR-CALDESC:Veranstaltungen für Freiwillige Feuerwehr Kastorf
REFRESH-INTERVAL;VALUE=DURATION:PT1H
X-Robots-Tag:noindex
X-PUBLISHED-TTL:PT1H
BEGIN:VTIMEZONE
TZID:Europe/Berlin
BEGIN:DAYLIGHT
TZOFFSETFROM:+0100
TZOFFSETTO:+0200
TZNAME:CEST
DTSTART:20250330T010000
END:DAYLIGHT
BEGIN:STANDARD
TZOFFSETFROM:+0200
TZOFFSETTO:+0100
TZNAME:CET
DTSTART:20251026T010000
END:STANDARD
BEGIN:DAYLIGHT
TZOFFSETFROM:+0100
TZOFFSETTO:+0200
TZNAME:CEST
DTSTART:20260329T010000
END:DAYLIGHT
BEGIN:STANDARD
TZOFFSETFROM:+0200
TZOFFSETTO:+0100
TZNAME:CET
DTSTART:20261025T010000
END:STANDARD
BEGIN:DAYLIGHT
TZOFFSETFROM:+0100
TZOFFSETTO:+0200
TZNAME:CEST
DTSTART:20270328T010000
END:DAYLIGHT
BEGIN:STANDARD
TZOFFSETFROM:+0200
TZOFFSETTO:+0100
TZNAME:CET
DTSTART:20271031T010000
END:STANDARD
BEGIN:DAYLIGHT
TZOFFSETFROM:+0100
TZOFFSETTO:+0200
TZNAME:CEST
DTSTART:20280326T010000
END:DAYLIGHT
BEGIN:STANDARD
TZOFFSETFROM:+0200
TZOFFSETTO:+0100
TZNAME:CET
DTSTART:20281029T010000
END:STANDARD
END:VTIMEZONE
BEGIN:VEVENT
DTSTART;TZID=Europe/Berlin:20260506T193000
DTEND;TZID=Europe/Berlin:20260506T223000
DTSTAMP:20260421T101449
CREATED:20260130T135414Z
LAST-MODIFIED:20260130T135414Z
UID:5604-1778095800-1778106600@feuerwehrkastorf.de
SUMMARY:Übungsdienst
DESCRIPTION:Übungsdienst
URL:https://feuerwehrkastorf.de/termin/uebungsdienst-6/
LOCATION:Freiwillige Feuerwehr Kastorf\, Ratzeburger Straße 26 b\, Kastorf\, Schleswig-Holstein\, 23847\, Germany
CATEGORIES:Übungsdienst
ORGANIZER;CN="Dennis Jahn%2C Wehrf%C3%BChrer":MAILTO:dennis.jahn@feuerwehrkastorf.de
END:VEVENT
BEGIN:VEVENT
DTSTART;TZID=Europe/Berlin:20260516T123000
DTEND;TZID=Europe/Berlin:20260516T200000
DTSTAMP:20260421T101449
CREATED:20260419T090706Z
LAST-MODIFIED:20260419T092009Z
UID:5787-1778934600-1778961600@feuerwehrkastorf.de
SUMMARY:Amtsfeuerwehrfest Sandesneben-Nusse
DESCRIPTION:
URL:https://feuerwehrkastorf.de/termin/amtsfeuerwehrfest-sandesneben-nusse/
LOCATION:Siebenbäumen\, Siebenbäumen\, Schleswig-Holstein\, 23847\, Germany
CATEGORIES:Feste
END:VEVENT
BEGIN:VEVENT
DTSTART;TZID=Europe/Berlin:20260520T193000
DTEND;TZID=Europe/Berlin:20260520T223000
DTSTAMP:20260421T101449
CREATED:20260212T121602Z
LAST-MODIFIED:20260212T121602Z
UID:5717-1779305400-1779316200@feuerwehrkastorf.de
SUMMARY:Übungsdienst
DESCRIPTION:Übungsdienst
URL:https://feuerwehrkastorf.de/termin/uebungsdienst-16/
LOCATION:Freiwillige Feuerwehr Kastorf\, Ratzeburger Straße 26 b\, Kastorf\, Schleswig-Holstein\, 23847\, Germany
CATEGORIES:Übungsdienst
ORGANIZER;CN="Dennis Jahn%2C Wehrf%C3%BChrer":MAILTO:dennis.jahn@feuerwehrkastorf.de
END:VEVENT
BEGIN:VEVENT
DTSTART;TZID=Europe/Berlin:20260603T193000
DTEND;TZID=Europe/Berlin:20260603T223000
DTSTAMP:20260421T101449
CREATED:20260130T135414Z
LAST-MODIFIED:20260130T135414Z
UID:5605-1780515000-1780525800@feuerwehrkastorf.de
SUMMARY:Übungsdienst
DESCRIPTION:Übungsdienst
URL:https://feuerwehrkastorf.de/termin/uebungsdienst-7/
LOCATION:Freiwillige Feuerwehr Kastorf\, Ratzeburger Straße 26 b\, Kastorf\, Schleswig-Holstein\, 23847\, Germany
CATEGORIES:Übungsdienst
ORGANIZER;CN="Dennis Jahn%2C Wehrf%C3%BChrer":MAILTO:dennis.jahn@feuerwehrkastorf.de
END:VEVENT
BEGIN:VEVENT
DTSTART;TZID=Europe/Berlin:20260617T190000
DTEND;TZID=Europe/Berlin:20260617T210000
DTSTAMP:20260421T101449
CREATED:20260212T121603Z
LAST-MODIFIED:20260212T121603Z
UID:5718-1781722800-1781730000@feuerwehrkastorf.de
SUMMARY:Übungsdienst / Ehrenmal
DESCRIPTION:Übungsdienst
URL:https://feuerwehrkastorf.de/termin/uebungsdienst-ehrenmal/
LOCATION:Freiwillige Feuerwehr Kastorf\, Ratzeburger Straße 26 b\, Kastorf\, Schleswig-Holstein\, 23847\, Germany
CATEGORIES:Übungsdienst
ORGANIZER;CN="Dennis Jahn%2C Wehrf%C3%BChrer":MAILTO:dennis.jahn@feuerwehrkastorf.de
END:VEVENT
BEGIN:VEVENT
DTSTART;TZID=Europe/Berlin:20260701T193000
DTEND;TZID=Europe/Berlin:20260701T223000
DTSTAMP:20260421T101449
CREATED:20260130T135415Z
LAST-MODIFIED:20260130T135415Z
UID:5606-1782934200-1782945000@feuerwehrkastorf.de
SUMMARY:Übungsdienst
DESCRIPTION:Übungsdienst
URL:https://feuerwehrkastorf.de/termin/uebungsdienst-8/
LOCATION:Freiwillige Feuerwehr Kastorf\, Ratzeburger Straße 26 b\, Kastorf\, Schleswig-Holstein\, 23847\, Germany
CATEGORIES:Übungsdienst
ORGANIZER;CN="Dennis Jahn%2C Wehrf%C3%BChrer":MAILTO:dennis.jahn@feuerwehrkastorf.de
END:VEVENT
BEGIN:VEVENT
DTSTART;TZID=Europe/Berlin:20260715T193000
DTEND;TZID=Europe/Berlin:20260715T223000
DTSTAMP:20260421T101449
CREATED:20260212T121603Z
LAST-MODIFIED:20260212T121603Z
UID:5719-1784143800-1784154600@feuerwehrkastorf.de
SUMMARY:Übungsdienst
DESCRIPTION:Übungsdienst
URL:https://feuerwehrkastorf.de/termin/uebungsdienst-17/
LOCATION:Freiwillige Feuerwehr Kastorf\, Ratzeburger Straße 26 b\, Kastorf\, Schleswig-Holstein\, 23847\, Germany
CATEGORIES:Übungsdienst
ORGANIZER;CN="Dennis Jahn%2C Wehrf%C3%BChrer":MAILTO:dennis.jahn@feuerwehrkastorf.de
END:VEVENT
BEGIN:VEVENT
DTSTART;TZID=Europe/Berlin:20260805T193000
DTEND;TZID=Europe/Berlin:20260805T223000
DTSTAMP:20260421T101449
CREATED:20260130T135416Z
LAST-MODIFIED:20260130T135416Z
UID:5607-1785958200-1785969000@feuerwehrkastorf.de
SUMMARY:Übungsdienst
DESCRIPTION:Übungsdienst
URL:https://feuerwehrkastorf.de/termin/uebungsdienst-9/
LOCATION:Freiwillige Feuerwehr Kastorf\, Ratzeburger Straße 26 b\, Kastorf\, Schleswig-Holstein\, 23847\, Germany
CATEGORIES:Übungsdienst
ORGANIZER;CN="Dennis Jahn%2C Wehrf%C3%BChrer":MAILTO:dennis.jahn@feuerwehrkastorf.de
END:VEVENT
BEGIN:VEVENT
DTSTART;TZID=Europe/Berlin:20260819T193000
DTEND;TZID=Europe/Berlin:20260819T223000
DTSTAMP:20260421T101449
CREATED:20260212T121605Z
LAST-MODIFIED:20260212T121605Z
UID:5720-1787167800-1787178600@feuerwehrkastorf.de
SUMMARY:Übungsdienst
DESCRIPTION:Übungsdienst
URL:https://feuerwehrkastorf.de/termin/uebungsdienst-18/
LOCATION:Freiwillige Feuerwehr Kastorf\, Ratzeburger Straße 26 b\, Kastorf\, Schleswig-Holstein\, 23847\, Germany
CATEGORIES:Übungsdienst
ORGANIZER;CN="Dennis Jahn%2C Wehrf%C3%BChrer":MAILTO:dennis.jahn@feuerwehrkastorf.de
END:VEVENT
BEGIN:VEVENT
DTSTART;TZID=Europe/Berlin:20260902T193000
DTEND;TZID=Europe/Berlin:20260902T223000
DTSTAMP:20260421T101449
CREATED:20260130T135416Z
LAST-MODIFIED:20260130T135416Z
UID:5608-1788377400-1788388200@feuerwehrkastorf.de
SUMMARY:Übungsdienst
DESCRIPTION:Übungsdienst
URL:https://feuerwehrkastorf.de/termin/uebungsdienst-11/
LOCATION:Freiwillige Feuerwehr Kastorf\, Ratzeburger Straße 26 b\, Kastorf\, Schleswig-Holstein\, 23847\, Germany
CATEGORIES:Übungsdienst
ORGANIZER;CN="Dennis Jahn%2C Wehrf%C3%BChrer":MAILTO:dennis.jahn@feuerwehrkastorf.de
END:VEVENT
BEGIN:VEVENT
DTSTART;TZID=Europe/Berlin:20260916T193000
DTEND;TZID=Europe/Berlin:20260916T223000
DTSTAMP:20260421T101449
CREATED:20260212T121605Z
LAST-MODIFIED:20260212T121605Z
UID:5721-1789587000-1789597800@feuerwehrkastorf.de
SUMMARY:Übungsdienst
DESCRIPTION:Übungsdienst
URL:https://feuerwehrkastorf.de/termin/uebungsdienst-19/
LOCATION:Freiwillige Feuerwehr Kastorf\, Ratzeburger Straße 26 b\, Kastorf\, Schleswig-Holstein\, 23847\, Germany
CATEGORIES:Übungsdienst
ORGANIZER;CN="Dennis Jahn%2C Wehrf%C3%BChrer":MAILTO:dennis.jahn@feuerwehrkastorf.de
END:VEVENT
BEGIN:VEVENT
DTSTART;TZID=Europe/Berlin:20261007T193000
DTEND;TZID=Europe/Berlin:20261007T223000
DTSTAMP:20260421T101449
CREATED:20260130T135417Z
LAST-MODIFIED:20260130T135417Z
UID:5609-1791401400-1791412200@feuerwehrkastorf.de
SUMMARY:Übungsdienst
DESCRIPTION:Übungsdienst
URL:https://feuerwehrkastorf.de/termin/uebungsdienst-12/
LOCATION:Freiwillige Feuerwehr Kastorf\, Ratzeburger Straße 26 b\, Kastorf\, Schleswig-Holstein\, 23847\, Germany
CATEGORIES:Übungsdienst
ORGANIZER;CN="Dennis Jahn%2C Wehrf%C3%BChrer":MAILTO:dennis.jahn@feuerwehrkastorf.de
END:VEVENT
BEGIN:VEVENT
DTSTART;TZID=Europe/Berlin:20261021T193000
DTEND;TZID=Europe/Berlin:20261021T223000
DTSTAMP:20260421T101449
CREATED:20260212T121606Z
LAST-MODIFIED:20260212T121606Z
UID:5722-1792611000-1792621800@feuerwehrkastorf.de
SUMMARY:Übungsdienst
DESCRIPTION:Übungsdienst
URL:https://feuerwehrkastorf.de/termin/uebungsdienst-20/
LOCATION:Freiwillige Feuerwehr Kastorf\, Ratzeburger Straße 26 b\, Kastorf\, Schleswig-Holstein\, 23847\, Germany
CATEGORIES:Übungsdienst
ORGANIZER;CN="Dennis Jahn%2C Wehrf%C3%BChrer":MAILTO:dennis.jahn@feuerwehrkastorf.de
END:VEVENT
BEGIN:VEVENT
DTSTART;TZID=Europe/Berlin:20261104T193000
DTEND;TZID=Europe/Berlin:20261104T223000
DTSTAMP:20260421T101449
CREATED:20260130T135417Z
LAST-MODIFIED:20260212T120913Z
UID:5610-1793820600-1793831400@feuerwehrkastorf.de
SUMMARY:Übungsdienst
DESCRIPTION:Übungsdienst
URL:https://feuerwehrkastorf.de/termin/uebungsdienst-13/
LOCATION:Freiwillige Feuerwehr Kastorf\, Ratzeburger Straße 26 b\, Kastorf\, Schleswig-Holstein\, 23847\, Germany
CATEGORIES:Übungsdienst
ORGANIZER;CN="Dennis Jahn%2C Wehrf%C3%BChrer":MAILTO:dennis.jahn@feuerwehrkastorf.de
END:VEVENT
BEGIN:VEVENT
DTSTART;TZID=Europe/Berlin:20261107T171500
DTEND;TZID=Europe/Berlin:20261107T220000
DTSTAMP:20260421T101449
CREATED:20260219T213056Z
LAST-MODIFIED:20260219T213056Z
UID:5728-1794071700-1794088800@feuerwehrkastorf.de
SUMMARY:Laternen-Umzug
DESCRIPTION:
URL:https://feuerwehrkastorf.de/termin/laternen-umzug/
LOCATION:Freiwillige Feuerwehr Kastorf\, Ratzeburger Straße 26 b\, Kastorf\, Schleswig-Holstein\, 23847\, Germany
CATEGORIES:Feste
ORGANIZER;CN="Dennis Jahn%2C Wehrf%C3%BChrer":MAILTO:dennis.jahn@feuerwehrkastorf.de
END:VEVENT
BEGIN:VEVENT
DTSTART;TZID=Europe/Berlin:20261114T140000
DTEND;TZID=Europe/Berlin:20261114T180000
DTSTAMP:20260421T101449
CREATED:20260130T135418Z
LAST-MODIFIED:20260219T212841Z
UID:5611-1794664800-1794679200@feuerwehrkastorf.de
SUMMARY:Hydrantenpflege
DESCRIPTION:
URL:https://feuerwehrkastorf.de/termin/hydrantenpruefung/
LOCATION:Freiwillige Feuerwehr Kastorf\, Ratzeburger Straße 26 b\, Kastorf\, Schleswig-Holstein\, 23847\, Germany
CATEGORIES:Übungsdienst
ORGANIZER;CN="Dennis Jahn%2C Wehrf%C3%BChrer":MAILTO:dennis.jahn@feuerwehrkastorf.de
END:VEVENT
BEGIN:VEVENT
DTSTART;TZID=Europe/Berlin:20261118T193000
DTEND;TZID=Europe/Berlin:20261118T223000
DTSTAMP:20260421T101449
CREATED:20260212T121606Z
LAST-MODIFIED:20260212T121606Z
UID:5723-1795030200-1795041000@feuerwehrkastorf.de
SUMMARY:Übungsdienst
DESCRIPTION:Übungsdienst
URL:https://feuerwehrkastorf.de/termin/uebungsdienst-21/
LOCATION:Freiwillige Feuerwehr Kastorf\, Ratzeburger Straße 26 b\, Kastorf\, Schleswig-Holstein\, 23847\, Germany
CATEGORIES:Übungsdienst
ORGANIZER;CN="Dennis Jahn%2C Wehrf%C3%BChrer":MAILTO:dennis.jahn@feuerwehrkastorf.de
END:VEVENT
BEGIN:VEVENT
DTSTART;TZID=Europe/Berlin:20261201T180000
DTEND;TZID=Europe/Berlin:20261201T190000
DTSTAMP:20260421T101449
CREATED:20260130T135420Z
LAST-MODIFIED:20260212T115841Z
UID:5612-1796148000-1796151600@feuerwehrkastorf.de
SUMMARY:Tag der Feuerwehr
DESCRIPTION:Übungsdienst
URL:https://feuerwehrkastorf.de/termin/tag-der-feuerwehr/
LOCATION:Freiwillige Feuerwehr Kastorf\, Ratzeburger Straße 26 b\, Kastorf\, Schleswig-Holstein\, 23847\, Germany
CATEGORIES:Übungsdienst
ORGANIZER;CN="Dennis Jahn%2C Wehrf%C3%BChrer":MAILTO:dennis.jahn@feuerwehrkastorf.de
END:VEVENT
BEGIN:VEVENT
DTSTART;TZID=Europe/Berlin:20261202T193000
DTEND;TZID=Europe/Berlin:20261202T223000
DTSTAMP:20260421T101449
CREATED:20260130T135420Z
LAST-MODIFIED:20260130T135420Z
UID:5613-1796239800-1796250600@feuerwehrkastorf.de
SUMMARY:Übungsdienst
DESCRIPTION:Übungsdienst
URL:https://feuerwehrkastorf.de/termin/uebungsdienst-14/
LOCATION:Freiwillige Feuerwehr Kastorf\, Ratzeburger Straße 26 b\, Kastorf\, Schleswig-Holstein\, 23847\, Germany
CATEGORIES:Übungsdienst
ORGANIZER;CN="Dennis Jahn%2C Wehrf%C3%BChrer":MAILTO:dennis.jahn@feuerwehrkastorf.de
END:VEVENT
BEGIN:VEVENT
DTSTART;TZID=Europe/Berlin:20261218T200000
DTEND;TZID=Europe/Berlin:20261218T223000
DTSTAMP:20260421T101449
CREATED:20260212T121607Z
LAST-MODIFIED:20260212T121607Z
UID:5724-1797624000-1797633000@feuerwehrkastorf.de
SUMMARY:Übungsdienst / Abschlussdienst
DESCRIPTION:Übungsdienst
URL:https://feuerwehrkastorf.de/termin/uebungsdienst-abschlussdienst/
LOCATION:Freiwillige Feuerwehr Kastorf\, Ratzeburger Straße 26 b\, Kastorf\, Schleswig-Holstein\, 23847\, Germany
CATEGORIES:Übungsdienst
ORGANIZER;CN="Dennis Jahn%2C Wehrf%C3%BChrer":MAILTO:dennis.jahn@feuerwehrkastorf.de
END:VEVENT
BEGIN:VEVENT
DTSTART;TZID=Europe/Berlin:20270129T200000
DTEND;TZID=Europe/Berlin:20270129T223000
DTSTAMP:20260421T101449
CREATED:20260130T135421Z
LAST-MODIFIED:20260130T135421Z
UID:5614-1801252800-1801261800@feuerwehrkastorf.de
SUMMARY:Jahreshauptversammlung
DESCRIPTION:Übungsdienst
URL:https://feuerwehrkastorf.de/termin/jahreshauptversammlung-2/
LOCATION:Freiwillige Feuerwehr Kastorf\, Ratzeburger Straße 26 b\, Kastorf\, Schleswig-Holstein\, 23847\, Germany
CATEGORIES:Übungsdienst
ORGANIZER;CN="Dennis Jahn%2C Wehrf%C3%BChrer":MAILTO:dennis.jahn@feuerwehrkastorf.de
END:VEVENT
END:VCALENDAR