BEGIN:VCALENDAR
VERSION:2.0
PRODID:-//Freiwillige Feuerwehr Kastorf - ECPv6.15.20//NONSGML v1.0//EN
CALSCALE:GREGORIAN
METHOD:PUBLISH
X-WR-CALNAME:Freiwillige Feuerwehr Kastorf
X-ORIGINAL-URL:https://feuerwehrkastorf.de
X-WR-CALDESC:Veranstaltungen für Freiwillige Feuerwehr Kastorf
REFRESH-INTERVAL;VALUE=DURATION:PT1H
X-Robots-Tag:noindex
X-PUBLISHED-TTL:PT1H
BEGIN:VTIMEZONE
TZID:Europe/Berlin
BEGIN:DAYLIGHT
TZOFFSETFROM:+0100
TZOFFSETTO:+0200
TZNAME:CEST
DTSTART:20240331T010000
END:DAYLIGHT
BEGIN:STANDARD
TZOFFSETFROM:+0200
TZOFFSETTO:+0100
TZNAME:CET
DTSTART:20241027T010000
END:STANDARD
BEGIN:DAYLIGHT
TZOFFSETFROM:+0100
TZOFFSETTO:+0200
TZNAME:CEST
DTSTART:20250330T010000
END:DAYLIGHT
BEGIN:STANDARD
TZOFFSETFROM:+0200
TZOFFSETTO:+0100
TZNAME:CET
DTSTART:20251026T010000
END:STANDARD
BEGIN:DAYLIGHT
TZOFFSETFROM:+0100
TZOFFSETTO:+0200
TZNAME:CEST
DTSTART:20260329T010000
END:DAYLIGHT
BEGIN:STANDARD
TZOFFSETFROM:+0200
TZOFFSETTO:+0100
TZNAME:CET
DTSTART:20261025T010000
END:STANDARD
BEGIN:DAYLIGHT
TZOFFSETFROM:+0100
TZOFFSETTO:+0200
TZNAME:CEST
DTSTART:20270328T010000
END:DAYLIGHT
BEGIN:STANDARD
TZOFFSETFROM:+0200
TZOFFSETTO:+0100
TZNAME:CET
DTSTART:20271031T010000
END:STANDARD
END:VTIMEZONE
BEGIN:VEVENT
DTSTART;TZID=Europe/Berlin:20260415T193000
DTEND;TZID=Europe/Berlin:20260415T223000
DTSTAMP:20260421T124916
CREATED:20260212T121601Z
LAST-MODIFIED:20260212T121601Z
UID:5716-1776281400-1776292200@feuerwehrkastorf.de
SUMMARY:Übungsdienst
DESCRIPTION:Übungsdienst
URL:https://feuerwehrkastorf.de/termin/uebungsdienst-15/
LOCATION:Freiwillige Feuerwehr Kastorf\, Ratzeburger Straße 26 b\, Kastorf\, Schleswig-Holstein\, 23847\, Germany
CATEGORIES:Übungsdienst
ORGANIZER;CN="Dennis Jahn%2C Wehrf%C3%BChrer":MAILTO:dennis.jahn@feuerwehrkastorf.de
END:VEVENT
BEGIN:VEVENT
DTSTART;TZID=Europe/Berlin:20260404T190000
DTEND;TZID=Europe/Berlin:20260404T233000
DTSTAMP:20260421T124916
CREATED:20260130T135414Z
LAST-MODIFIED:20260319T112858Z
UID:5603-1775329200-1775345400@feuerwehrkastorf.de
SUMMARY:Osterfeuer
DESCRIPTION:Die Freiwillige Feuerwehr Kastorf \nlädt ein zum \nOSTERFEUER \nAm Feuerplatz in Kastorf \nFeuerwehr-Burger \nBratwurst\, Pommes & kalte Getränke \nSamstag\, 04.04.26 \num 19:00 Uhr
URL:https://feuerwehrkastorf.de/termin/osterfeuer/
LOCATION:Freiwillige Feuerwehr Kastorf\, Ratzeburger Straße 26 b\, Kastorf\, Schleswig-Holstein\, 23847\, Germany
CATEGORIES:Feste
ATTACH;FMTTYPE=image/jpeg:https://feuerwehrkastorf.de/wp-content/uploads/2026/01/2026_Osterfeuer.jpg
ORGANIZER;CN="Dennis Jahn%2C Wehrf%C3%BChrer":MAILTO:dennis.jahn@feuerwehrkastorf.de
END:VEVENT
BEGIN:VEVENT
DTSTART;TZID=Europe/Berlin:20260401T193000
DTEND;TZID=Europe/Berlin:20260401T223000
DTSTAMP:20260421T124916
CREATED:20260130T135413Z
LAST-MODIFIED:20260130T135413Z
UID:5602-1775071800-1775082600@feuerwehrkastorf.de
SUMMARY:Übungsdienst
DESCRIPTION:Übungsdienst
URL:https://feuerwehrkastorf.de/termin/uebungsdienst-5/
LOCATION:Freiwillige Feuerwehr Kastorf\, Ratzeburger Straße 26 b\, Kastorf\, Schleswig-Holstein\, 23847\, Germany
CATEGORIES:Übungsdienst
ORGANIZER;CN="Dennis Jahn%2C Wehrf%C3%BChrer":MAILTO:dennis.jahn@feuerwehrkastorf.de
END:VEVENT
BEGIN:VEVENT
DTSTART;TZID=Europe/Berlin:20260318T193000
DTEND;TZID=Europe/Berlin:20260318T223000
DTSTAMP:20260421T124916
CREATED:20260130T134109Z
LAST-MODIFIED:20260318T074301Z
UID:5599-1773862200-1773873000@feuerwehrkastorf.de
SUMMARY:Kameradschaftspflege (kein Übungsdienst)
DESCRIPTION:Übungsdienst fällt mangels Gruppenführung aus
URL:https://feuerwehrkastorf.de/termin/uebungsdienst-4/
LOCATION:Freiwillige Feuerwehr Kastorf\, Ratzeburger Straße 26 b\, Kastorf\, Schleswig-Holstein\, 23847\, Germany
CATEGORIES:Übungsdienst
ORGANIZER;CN="Dennis Jahn%2C Wehrf%C3%BChrer":MAILTO:dennis.jahn@feuerwehrkastorf.de
END:VEVENT
BEGIN:VEVENT
DTSTART;TZID=Europe/Berlin:20260312T190000
DTEND;TZID=Europe/Berlin:20260312T220000
DTSTAMP:20260421T124916
CREATED:20260302T105457Z
LAST-MODIFIED:20260302T105457Z
UID:5750-1773342000-1773352800@feuerwehrkastorf.de
SUMMARY:Sonderdienst / Fortbildung Feuerwehr Krebs & Einsatzstellenhygiene
DESCRIPTION:
URL:https://feuerwehrkastorf.de/termin/sonderdienst-fortbildung-feuerwehr-krebs-einsatzstellenhygiene/
LOCATION:Freiwillige Feuerwehr Kastorf\, Ratzeburger Straße 26 b\, Kastorf\, Schleswig-Holstein\, 23847\, Germany
CATEGORIES:Alle,Ausbildung,Übungsdienst
ORGANIZER;CN="Dennis Jahn%2C Wehrf%C3%BChrer":MAILTO:dennis.jahn@feuerwehrkastorf.de
END:VEVENT
BEGIN:VEVENT
DTSTART;TZID=Europe/Berlin:20260307T100000
DTEND;TZID=Europe/Berlin:20260307T140000
DTSTAMP:20260421T124916
CREATED:20260212T121600Z
LAST-MODIFIED:20260212T121600Z
UID:5715-1772877600-1772892000@feuerwehrkastorf.de
SUMMARY:Müll sammeln
DESCRIPTION:Übungsdienst
URL:https://feuerwehrkastorf.de/termin/muell-sammeln/
LOCATION:Freiwillige Feuerwehr Kastorf\, Ratzeburger Straße 26 b\, Kastorf\, Schleswig-Holstein\, 23847\, Germany
CATEGORIES:Übungsdienst
ORGANIZER;CN="Dennis Jahn%2C Wehrf%C3%BChrer":MAILTO:dennis.jahn@feuerwehrkastorf.de
END:VEVENT
BEGIN:VEVENT
DTSTART;TZID=Europe/Berlin:20260304T193000
DTEND;TZID=Europe/Berlin:20260304T223000
DTSTAMP:20260421T124916
CREATED:20260130T132540Z
LAST-MODIFIED:20260130T132540Z
UID:5592-1772652600-1772663400@feuerwehrkastorf.de
SUMMARY:Übungsdienst
DESCRIPTION:
URL:https://feuerwehrkastorf.de/termin/uebungsdienst-3/
LOCATION:Freiwillige Feuerwehr Kastorf\, Ratzeburger Straße 26 b\, Kastorf\, Schleswig-Holstein\, 23847\, Germany
CATEGORIES:Alle,Übungsdienst
ORGANIZER;CN="Dennis Jahn%2C Wehrf%C3%BChrer":MAILTO:dennis.jahn@feuerwehrkastorf.de
END:VEVENT
BEGIN:VEVENT
DTSTART;TZID=Europe/Berlin:20260218T193000
DTEND;TZID=Europe/Berlin:20260218T223000
DTSTAMP:20260421T124916
CREATED:20260122T142413Z
LAST-MODIFIED:20260130T131816Z
UID:5568-1771443000-1771453800@feuerwehrkastorf.de
SUMMARY:Übungsdienst
DESCRIPTION:
URL:https://feuerwehrkastorf.de/termin/uebungsdienst-2/
LOCATION:Freiwillige Feuerwehr Kastorf\, Ratzeburger Straße 26 b\, Kastorf\, Schleswig-Holstein\, 23847\, Germany
CATEGORIES:Alle,Übungsdienst
ORGANIZER;CN="Daniel Herzog":MAILTO:Daniel.Herzog@feuerwehrkastorf.de
END:VEVENT
BEGIN:VEVENT
DTSTART;TZID=Europe/Berlin:20260204T193000
DTEND;TZID=Europe/Berlin:20260204T223000
DTSTAMP:20260421T124916
CREATED:20260122T142206Z
LAST-MODIFIED:20260130T131804Z
UID:5566-1770233400-1770244200@feuerwehrkastorf.de
SUMMARY:Übungsdienst
DESCRIPTION:
URL:https://feuerwehrkastorf.de/termin/uebungsdienst/
LOCATION:Freiwillige Feuerwehr Kastorf\, Ratzeburger Straße 26 b\, Kastorf\, Schleswig-Holstein\, 23847\, Germany
CATEGORIES:Alle,Übungsdienst
ORGANIZER;CN="Dennis Jahn%2C Wehrf%C3%BChrer":MAILTO:dennis.jahn@feuerwehrkastorf.de
END:VEVENT
BEGIN:VEVENT
DTSTART;TZID=Europe/Berlin:20260130T200000
DTEND;TZID=Europe/Berlin:20260130T230000
DTSTAMP:20260421T124916
CREATED:20260115T101537Z
LAST-MODIFIED:20260125T160942Z
UID:5561-1769803200-1769814000@feuerwehrkastorf.de
SUMMARY:Jahreshauptversammlung 2026
DESCRIPTION:Am Freitag\, 30.01.2026 um 20:00 Uhr im Feuerwehrhaus  \nWir tragen den Dienstanzug. \n  \n Tagesordnung:  \n\nEröffnung und Begrüßung durch den Wehrführer sowie Feststellung der Beschlussfähigkeit\nGenehmigung der Niederschrift der Hauptversammlung vom 10.01.2025\nGrußworte\nJahresbericht des Wehrführers\nBericht des Kassenwartes\nBericht der Kassenprüfer und Antrag auf Entlastung\nWahlen\n\na) Wahl eines neuen Kassenprüfers \nb) Wahl eines Festausschusses \nc) Wahl eines Gerätewartes \nd) Wahl eines stellv. Gruppenführer \ne) Wahl eines Atemschutzgerätewartes \n  \n\nEhrungen und Beförderungen\nVerschiedenes
URL:https://feuerwehrkastorf.de/termin/jahreshauptversammlung-2026/
LOCATION:Freiwillige Feuerwehr Kastorf\, Ratzeburger Straße 26 b\, Kastorf\, Schleswig-Holstein\, 23847\, Germany
CATEGORIES:Versammlung
ORGANIZER;CN="Dennis Jahn%2C Wehrf%C3%BChrer":MAILTO:dennis.jahn@feuerwehrkastorf.de
END:VEVENT
BEGIN:VEVENT
DTSTART;TZID=Europe/Berlin:20260109T200000
DTEND;TZID=Europe/Berlin:20260109T233000
DTSTAMP:20260421T124916
CREATED:20251119T142955Z
LAST-MODIFIED:20260108T110009Z
UID:5527-1767988800-1768001400@feuerwehrkastorf.de
SUMMARY:ABGESAGT\, Jahreshauptversammlung
DESCRIPTION:aufgrund der Witterung hat die 5. Brandschutzbereitschaft Voralarm ausgelöst und wir müssen die Besatzung des Löschgruppenfahrzeug 20 KatS-SH für morgen\, 9. Januar 2026 doppelt sicherstellen.\n \nWir sehen uns daher gezwungen\, die morgige Jahreshauptversammlung abzusagen. Einen neuen Termin müssen wir noch nach Abstimmung mit der Amtswehrführung festlegen. Unsere Satzung schreibt vor\, dass dieses im 1. Quartal erfolgen muss. Es wird dann rechtzeitig neu eingeladen. \n \nFeuerwehr Kastorf\nDer Vorstand\n  \nTagesordnung:\n01. Eröffnung und Begrüßung durch den Wehrführer sowie Feststellung der Beschlussfähigkeit\n02. Genehmigung der Niederschrift der Hauptversammlung vom 10.01.2025\n03. Grußworte\n04. Jahresbericht des Wehrführers\n05. Bericht des Kassenwartes\n06. Bericht der Kassenprüfer und Antrag auf Entlastung\n07. Wahlen\na) Wahl eines neuen Kassenprüfers\nb) Wahl eines Festausschusses\nc) Wahl eines Gerätewartes\nd) Wahl eines stellv. Gruppenführer\ne) Wahl eines Atemschutzgerätewartes\n08. Ehrungen und Beförderungen\n09. Verschiedenes
URL:https://feuerwehrkastorf.de/termin/jahreshauptversammlung/
LOCATION:Freiwillige Feuerwehr Kastorf\, Ratzeburger Straße 26 b\, Kastorf\, Schleswig-Holstein\, 23847\, Germany
CATEGORIES:Versammlung
ORGANIZER;CN="Dennis Jahn%2C Wehrf%C3%BChrer":MAILTO:dennis.jahn@feuerwehrkastorf.de
END:VEVENT
BEGIN:VEVENT
DTSTART;TZID=Europe/Berlin:20251212T190000
DTEND;TZID=Europe/Berlin:20251212T220000
DTSTAMP:20260421T124916
CREATED:20241210T115320Z
LAST-MODIFIED:20241210T115857Z
UID:4716-1765566000-1765576800@feuerwehrkastorf.de
SUMMARY:Abschlussdienst
DESCRIPTION:Abschlussdienst
URL:https://feuerwehrkastorf.de/termin/abschlussdienst/
LOCATION:Freiwillige Feuerwehr Kastorf\, Ratzeburger Straße 26 b\, Kastorf\, Schleswig-Holstein\, 23847\, Germany
CATEGORIES:Alle,Übungsdienst
ORGANIZER;CN="Heiko Kr%C3%B6ger (ehem. Wehrf%C3%BChrer 2013-2025)":MAILTO:Heiko.Kroeger@feuerwehrkastorf.de
END:VEVENT
BEGIN:VEVENT
DTSTART;TZID=Europe/Berlin:20251203T193000
DTEND;TZID=Europe/Berlin:20251203T213000
DTSTAMP:20260421T124916
CREATED:20241210T115141Z
LAST-MODIFIED:20241210T115141Z
UID:4714-1764790200-1764797400@feuerwehrkastorf.de
SUMMARY:Übungsdienst
DESCRIPTION:Übungsdienst
URL:https://feuerwehrkastorf.de/termin/uebungsdienst-29/
LOCATION:Freiwillige Feuerwehr Kastorf\, Ratzeburger Straße 26 b\, Kastorf\, Schleswig-Holstein\, 23847\, Germany
CATEGORIES:Alle,Übungsdienst
ORGANIZER;CN="Heiko Kr%C3%B6ger (ehem. Wehrf%C3%BChrer 2013-2025)":MAILTO:Heiko.Kroeger@feuerwehrkastorf.de
END:VEVENT
BEGIN:VEVENT
DTSTART;TZID=Europe/Berlin:20251119T193000
DTEND;TZID=Europe/Berlin:20251119T213000
DTSTAMP:20260421T124916
CREATED:20241210T115045Z
LAST-MODIFIED:20241210T115045Z
UID:4712-1763580600-1763587800@feuerwehrkastorf.de
SUMMARY:Übungsdienst
DESCRIPTION:Übungsdienst
URL:https://feuerwehrkastorf.de/termin/uebungsdienst-28/
LOCATION:Freiwillige Feuerwehr Kastorf\, Ratzeburger Straße 26 b\, Kastorf\, Schleswig-Holstein\, 23847\, Germany
CATEGORIES:Alle,Übungsdienst
ORGANIZER;CN="Heiko Kr%C3%B6ger (ehem. Wehrf%C3%BChrer 2013-2025)":MAILTO:Heiko.Kroeger@feuerwehrkastorf.de
END:VEVENT
BEGIN:VEVENT
DTSTART;TZID=Europe/Berlin:20251108T140000
DTEND;TZID=Europe/Berlin:20251108T180000
DTSTAMP:20260421T124916
CREATED:20241210T114950Z
LAST-MODIFIED:20241210T114950Z
UID:4710-1762610400-1762624800@feuerwehrkastorf.de
SUMMARY:Hydranten Prüfung
DESCRIPTION:Hydranten Prüfung
URL:https://feuerwehrkastorf.de/termin/hydranten-pruefung/
LOCATION:Freiwillige Feuerwehr Kastorf\, Ratzeburger Straße 26 b\, Kastorf\, Schleswig-Holstein\, 23847\, Germany
CATEGORIES:Alle,Übungsdienst
ORGANIZER;CN="Heiko Kr%C3%B6ger (ehem. Wehrf%C3%BChrer 2013-2025)":MAILTO:Heiko.Kroeger@feuerwehrkastorf.de
END:VEVENT
BEGIN:VEVENT
DTSTART;TZID=Europe/Berlin:20251101T173000
DTEND;TZID=Europe/Berlin:20251101T203000
DTSTAMP:20260421T124916
CREATED:20251021T100019Z
LAST-MODIFIED:20251027T074545Z
UID:5517-1762018200-1762029000@feuerwehrkastorf.de
SUMMARY:Laternenfest Umzugsbegleitung
DESCRIPTION:PSA – Helme auf den Fahrzeugen \nAlle Maschinisten und Absperrposten mit Funk ausrüsten. \nAbsperrposten mit Winkerkelle ausrüsten. \nAufsicht vorne Henrik\, Aufsicht hinten Markus \nIm Einsatzfall Fahrzeuge besetzen (PA-Träger Vorrang) \nMedizinische Versorgung Telse und Emilia (FR-Rucksack) \nMZF vor dem Umzug\, Fahrerin ist Telse. \nLF 10/6 in Warteposition s. Karte (Einmündung „Alter Hof“ und fährt dann als Puffer hinterher\, Maschinist ist Gerd. \nAbsperrposten Park Richtung Klinkrade ist Max \nAbsperrposten Park Richtung Sierksrade ist Borki. \nAlle weiteren Kameraden sichern seitlich mit Fackeln ab und behalten den Umzug in ihrem Bereich im Auge. \nKameraden die nicht dabei sind\, besetzen im Einsatzfall das LF Kat/S \nDANACH GIBT ES LECKER WURST UND GETRÄNKE.
URL:https://feuerwehrkastorf.de/termin/laternenfest-umzugsbegleitung/
LOCATION:Freiwillige Feuerwehr Kastorf\, Ratzeburger Straße 26 b\, Kastorf\, Schleswig-Holstein\, 23847\, Germany
CATEGORIES:Feste
ATTACH;FMTTYPE=image/jpeg:https://feuerwehrkastorf.de/wp-content/uploads/2025/10/2025_Laternenfest.jpg
ORGANIZER;CN="Dennis Jahn%2C Wehrf%C3%BChrer":MAILTO:dennis.jahn@feuerwehrkastorf.de
END:VEVENT
END:VCALENDAR