BEGIN:VCALENDAR
VERSION:2.0
PRODID:-//Freiwillige Feuerwehr Kastorf - ECPv6.15.20//NONSGML v1.0//EN
CALSCALE:GREGORIAN
METHOD:PUBLISH
X-ORIGINAL-URL:https://feuerwehrkastorf.de
X-WR-CALDESC:Veranstaltungen für Freiwillige Feuerwehr Kastorf
REFRESH-INTERVAL;VALUE=DURATION:PT1H
X-Robots-Tag:noindex
X-PUBLISHED-TTL:PT1H
BEGIN:VTIMEZONE
TZID:Europe/Berlin
BEGIN:DAYLIGHT
TZOFFSETFROM:+0100
TZOFFSETTO:+0200
TZNAME:CEST
DTSTART:20250330T010000
END:DAYLIGHT
BEGIN:STANDARD
TZOFFSETFROM:+0200
TZOFFSETTO:+0100
TZNAME:CET
DTSTART:20251026T010000
END:STANDARD
BEGIN:DAYLIGHT
TZOFFSETFROM:+0100
TZOFFSETTO:+0200
TZNAME:CEST
DTSTART:20260329T010000
END:DAYLIGHT
BEGIN:STANDARD
TZOFFSETFROM:+0200
TZOFFSETTO:+0100
TZNAME:CET
DTSTART:20261025T010000
END:STANDARD
BEGIN:DAYLIGHT
TZOFFSETFROM:+0100
TZOFFSETTO:+0200
TZNAME:CEST
DTSTART:20270328T010000
END:DAYLIGHT
BEGIN:STANDARD
TZOFFSETFROM:+0200
TZOFFSETTO:+0100
TZNAME:CET
DTSTART:20271031T010000
END:STANDARD
END:VTIMEZONE
BEGIN:VEVENT
DTSTART;TZID=Europe/Berlin:20260506T193000
DTEND;TZID=Europe/Berlin:20260506T223000
DTSTAMP:20260421T142010
CREATED:20260130T135414Z
LAST-MODIFIED:20260130T135414Z
UID:5604-1778095800-1778106600@feuerwehrkastorf.de
SUMMARY:Übungsdienst
DESCRIPTION:Übungsdienst
URL:https://feuerwehrkastorf.de/termin/uebungsdienst-6/
LOCATION:Freiwillige Feuerwehr Kastorf\, Ratzeburger Straße 26 b\, Kastorf\, Schleswig-Holstein\, 23847\, Germany
CATEGORIES:Übungsdienst
ORGANIZER;CN="Dennis Jahn%2C Wehrf%C3%BChrer":MAILTO:dennis.jahn@feuerwehrkastorf.de
END:VEVENT
BEGIN:VEVENT
DTSTART;TZID=Europe/Berlin:20260516T123000
DTEND;TZID=Europe/Berlin:20260516T200000
DTSTAMP:20260421T142010
CREATED:20260419T090706Z
LAST-MODIFIED:20260419T092009Z
UID:5787-1778934600-1778961600@feuerwehrkastorf.de
SUMMARY:Amtsfeuerwehrfest Sandesneben-Nusse
DESCRIPTION:
URL:https://feuerwehrkastorf.de/termin/amtsfeuerwehrfest-sandesneben-nusse/
LOCATION:Siebenbäumen\, Siebenbäumen\, Schleswig-Holstein\, 23847\, Germany
CATEGORIES:Feste
END:VEVENT
BEGIN:VEVENT
DTSTART;TZID=Europe/Berlin:20260520T193000
DTEND;TZID=Europe/Berlin:20260520T223000
DTSTAMP:20260421T142010
CREATED:20260212T121602Z
LAST-MODIFIED:20260212T121602Z
UID:5717-1779305400-1779316200@feuerwehrkastorf.de
SUMMARY:Übungsdienst
DESCRIPTION:Übungsdienst
URL:https://feuerwehrkastorf.de/termin/uebungsdienst-16/
LOCATION:Freiwillige Feuerwehr Kastorf\, Ratzeburger Straße 26 b\, Kastorf\, Schleswig-Holstein\, 23847\, Germany
CATEGORIES:Übungsdienst
ORGANIZER;CN="Dennis Jahn%2C Wehrf%C3%BChrer":MAILTO:dennis.jahn@feuerwehrkastorf.de
END:VEVENT
END:VCALENDAR